BEGIN:VCALENDAR
VERSION:2.0
PRODID:-//eventon.com NONSGML v1.0//EN
CALSCALE:GREGORIAN
METHOD:PUBLISH
BEGIN:VEVENT
UID:69e5a7d5a638f
DTSTAMP:20260420T061309
DTSTART:20210331T153000Z
DTEND:20210331T173000Z
TZID:UTC
LOCATION:Centro Studi Procedura Immaginativa viale Vittorio Veneto\,  24
SUMMARY:Supervisioni di gruppo Psicologi  on line
DESCRIPTION: Rivolto a Psicologi\,  Psicoterapeuti\,  Psichiatri\,  Dottori in Scienze e Tecniche Psicologiche\,  studenti in formazione\,  tirocinanti. In un piccolo gruppo massimo 8 partecipanti\,  il confronto e la discussione di casi clinici\,  con colleghi con esperienze diverse anche di diversa formazione per un reciproco scambio con il concertato della supervisione clinica con[..]\nhttps://www.proceduraimmaginativa.it/events/supervisioni-di-gruppo-psicologi-on-line-2/
URL:https://www.proceduraimmaginativa.it/events/supervisioni-di-gruppo-psicologi-on-line-2/
END:VEVENT
END:VCALENDAR