BEGIN:VCALENDAR
VERSION:2.0
PRODID:-//eventon.com NONSGML v1.0//EN
CALSCALE:GREGORIAN
METHOD:PUBLISH
BEGIN:VEVENT
UID:69ecb61eecdc6
DTSTAMP:20260425T143958
DTSTART:20261119T030000Z
DTEND:20261119T043000Z
TZID:Pacific/Midway
LOCATION:Centro Studi Procedura Immaginativa viale Vittorio Veneto\,  24
SUMMARY:Supervisioni di gruppo Psicologi in presenza
DESCRIPTION: Rivolto a Psicoterapeuti\,  Psichiatri\,  Psicologi\,  Dottori in Scienze e Tecniche Psicologiche. In un piccolo gruppo massimo 10 partecipanti\,   tenuti da Massimo Bondi\,  psicoterapeuta\,  favoriscono il confronto e la discussione di casi clinici\,  con colleghi  anche di diversa formazione. Sarà favorito il reciproco scambio con il concertato della supervisione clinica con[..]\nhttps://www.proceduraimmaginativa.it/events/supervisioni-di-gruppo-psicologi-in-presenza-40/
URL:https://www.proceduraimmaginativa.it/events/supervisioni-di-gruppo-psicologi-in-presenza-40/
END:VEVENT
END:VCALENDAR