BEGIN:VCALENDAR
VERSION:2.0
PRODID:-//eventon.com NONSGML v1.0//EN
CALSCALE:GREGORIAN
METHOD:PUBLISH
BEGIN:VEVENT
UID:69eccbddd6b9f
DTSTAMP:20260425T161245
DTSTART:20260214T220000Z
DTEND:20260215T030000Z
TZID:Pacific/Midway
LOCATION:Centro Studi Procedura Immaginativa viale Vittorio Veneto\,  24
SUMMARY:L’INTENZIONALITA’ DEL CAMBIAMENTO  R. Rocca ECM 2026
DESCRIPTION: Il caso GABRIELE: Analisi dell&#8217;immagine potenzialmente energetica eristrutturante. Sintesi matura del lavoro teorico clinico  di due Capiscuola (Rocca e Stendoro)\,   il ciclo di incontri centra l’attenzione sulle energie e sulle conseguenti dinamiche funzionali evolutive e creative del percorso di cura con la tecnica della Procedura Immaginativa e della Metodologia dell’Incontro.[..]\nhttps://www.proceduraimmaginativa.it/events/lintenzionalita-del-cambiamento-r-rocca-ecm-2026-11/
URL:https://www.proceduraimmaginativa.it/events/lintenzionalita-del-cambiamento-r-rocca-ecm-2026-11/
END:VEVENT
END:VCALENDAR